View In:
ArcGIS JavaScript
ArcGIS Online Map Viewer
ArcGIS Earth
Service Description: QAC_PUBLIC/QAC_COUNTYWIDE2019
Name: QAC_PUBLIC/QAC_COUNTYWIDE2019
Description:
Single Fused Map Cache: false
Extent:
XMin: 1468000
YMin: 411000
XMax: 1672000
YMax: 587000
Spatial Reference: 103069
(6488)
Initial Extent:
XMin: 1468000
YMin: 411000
XMax: 1672000
YMax: 587000
Spatial Reference: 103069
(6488)
Full Extent:
XMin: 1468000
YMin: 411000
XMax: 1672000
YMax: 587000
Spatial Reference: 103069
(6488)
Pixel Size X: 0.5
Pixel Size Y: 0.5
Band Count: 4
Pixel Type: U8
RasterFunction Infos: {"rasterFunctionInfos": [{
"name": "None",
"description": "",
"help": ""
}]}
Mensuration Capabilities: Basic
Inspection Capabilities:
Has Histograms: true
Has Colormap: false
Has Multi Dimensions : false
Rendering Rule:
Min Scale: 0
Max Scale: 0
Copyright Text:
Service Data Type: esriImageServiceDataTypeGeneric
Min Values: 23, 23, 23, 8
Max Values: 254, 254, 254, 255
Mean Values: 60.335287671875, 72.6294122265625, 76.73225176388888, 64.09337989192709
Standard Deviation Values: 12.190784817654574, 17.611299052880454, 16.709620324377433, 26.540925685028274
Object ID Field:
Fields:
None
Default Mosaic Method: Center
Allowed Mosaic Methods:
SortField:
SortValue: null
Mosaic Operator: First
Default Compression Quality: 75
Default Resampling Method: Bilinear
Max Record Count: null
Max Image Height: 4100
Max Image Width: 15000
Max Download Image Count: null
Max Mosaic Image Count: null
Allow Raster Function: true
Allow Copy: true
Allow Analysis: true
Allow Compute TiePoints: false
Supports Statistics: false
Supports Advanced Queries: false
Use StandardizedQueries: true
Raster Type Infos:
Name: Raster Dataset
Description: Supports all ArcGIS Raster Datasets
Help:
Has Raster Attribute Table: false
Edit Fields Info: null
Ownership Based AccessControl For Rasters: null
Child Resources:
Info
Histograms
Statistics
Key Properties
Legend
Raster Function Infos
Supported Operations:
Export Image
Identify
Measure
Compute Histograms
Compute Statistics Histograms
Get Samples
Compute Class Statistics
Query Boundary
Compute Pixel Location
Compute Angles
Validate
Project