{
 "currentVersion": 11.2,
 "serviceDescription": "QAC_PUBLIC/QAC_COUNTYWIDE2019",
 "name": "QAC_PUBLIC/QAC_COUNTYWIDE2019",
 "description": "",
 "extent": {
  "xmin": 1468000,
  "ymin": 411000,
  "xmax": 1672000,
  "ymax": 587000,
  "spatialReference": {
   "wkid": 103069,
   "latestWkid": 6488
  }
 },
 "initialExtent": {
  "xmin": 1468000,
  "ymin": 411000,
  "xmax": 1672000,
  "ymax": 587000,
  "spatialReference": {
   "wkid": 103069,
   "latestWkid": 6488
  }
 },
 "fullExtent": {
  "xmin": 1468000,
  "ymin": 411000,
  "xmax": 1672000,
  "ymax": 587000,
  "spatialReference": {
   "wkid": 103069,
   "latestWkid": 6488
  }
 },
 "sortableFields": "",
 "bandCount": 4,
 "pixelType": "U8",
 "minValues": [
  23,
  23,
  23,
  8
 ],
 "maxValues": [
  254,
  254,
  254,
  255
 ],
 "meanValues": [
  60.335287671875,
  72.6294122265625,
  76.73225176388888,
  64.09337989192709
 ],
 "stdvValues": [
  12.190784817654574,
  17.611299052880454,
  16.709620324377433,
  26.540925685028274
 ],
 "hasMultidimensions": false,
 "pixelSizeX": 0.5,
 "pixelSizeY": 0.5,
 "meanPixelSize": 0.15240030480060962,
 "datasetFormat": "SDR",
 "uncompressedSize": 574464000000,
 "blockWidth": 128,
 "blockHeight": 128,
 "compressionType": "LZ77",
 "bandNames": [
  "Band_1",
  "Band_2",
  "Band_3",
  "Band_4"
 ],
 "allowCopy": true,
 "allowAnalysis": true,
 "itemAccess": false,
 "inspectionCapabilities": "",
 "minPixelSize": 0,
 "maxPixelSize": 0,
 "copyrightText": "",
 "serviceDataType": "esriImageServiceDataTypeGeneric",
 "serviceSourceType": "esriImageServiceSourceTypeDataset",
 "objectIdField": "",
 "fields": [],
 "capabilities": "Mensuration,Image,Metadata",
 "defaultMosaicMethod": "Center",
 "allowedMosaicMethods": "",
 "sortField": "",
 "sortValue": null,
 "sortAscending": true,
 "mosaicOperator": "First",
 "defaultCompressionQuality": 75,
 "defaultResamplingMethod": "Bilinear",
 "maxImageHeight": 4100,
 "maxImageWidth": 15000,
 "allowRasterFunction": true,
 "rasterFunctionInfos": [
  {
   "name": "None",
   "description": "",
   "help": ""
  }
 ],
 "rasterTypeInfos": [
  {
   "name": "Raster Dataset",
   "description": "Supports all ArcGIS Raster Datasets",
   "help": ""
  }
 ],
 "mensurationCapabilities": "Basic",
 "hasHistograms": true,
 "hasColormap": false,
 "hasRasterAttributeTable": false,
 "minScale": 0,
 "maxScale": 0,
 "exportTilesAllowed": false,
 "supportsStatistics": false,
 "supportsAdvancedQueries": false,
 "editFieldsInfo": null,
 "ownershipBasedAccessControlForRasters": null,
 "allowComputeTiePoints": false,
 "useStandardizedQueries": false,
 "advancedQueryCapabilities": {
  "useStandardizedQueries": false,
  "supportsStatistics": false,
  "supportsOrderBy": false,
  "supportsDistinct": false,
  "supportsPagination": false
 },
 "spatialReference": {
  "wkid": 103069,
  "latestWkid": 6488
 }
}
