View In:
ArcGIS JavaScript
ArcGIS Online Map Viewer
ArcGIS Earth
Service Description: QAC_PUBLIC/QAC_COUNTYWIDE1937
Name: QAC_PUBLIC/QAC_COUNTYWIDE1937
Description:
Single Fused Map Cache: false
Extent:
XMin: 1482993.7520674318
YMin: 421690.7705937748
XMax: 1672026.8896616464
YMax: 598310.6565874964
Spatial Reference: 103069
(6488)
Initial Extent:
XMin: 1482993.7520674318
YMin: 421690.7705937748
XMax: 1672026.8896616464
YMax: 598310.6565874964
Spatial Reference: 103069
(6488)
Full Extent:
XMin: 1482993.7520674318
YMin: 421690.7705937748
XMax: 1672026.8896616464
YMax: 598310.6565874964
Spatial Reference: 103069
(6488)
Pixel Size X: 1.3413930841254773
Pixel Size Y: 1.3413930841255086
Band Count: 1
Pixel Type: U8
RasterFunction Infos: {"rasterFunctionInfos": [{
"name": "None",
"description": "",
"help": ""
}]}
Mensuration Capabilities: Basic
Inspection Capabilities:
Has Histograms: true
Has Colormap: false
Has Multi Dimensions : false
Rendering Rule:
Min Scale: 0
Max Scale: 0
Copyright Text:
Service Data Type: esriImageServiceDataTypeGeneric
Min Values: 0
Max Values: 255
Mean Values: 66.76233686923939
Standard Deviation Values: 72.36796273208981
Object ID Field:
Fields:
None
Default Mosaic Method: Center
Allowed Mosaic Methods:
SortField:
SortValue: null
Mosaic Operator: First
Default Compression Quality: 75
Default Resampling Method: Bilinear
Max Record Count: null
Max Image Height: 4100
Max Image Width: 15000
Max Download Image Count: null
Max Mosaic Image Count: null
Allow Raster Function: true
Allow Copy: true
Allow Analysis: true
Allow Compute TiePoints: false
Supports Statistics: false
Supports Advanced Queries: false
Use StandardizedQueries: true
Raster Type Infos:
Name: Raster Dataset
Description: Supports all ArcGIS Raster Datasets
Help:
Has Raster Attribute Table: false
Edit Fields Info: null
Ownership Based AccessControl For Rasters: null
Child Resources:
Info
Histograms
Statistics
Key Properties
Legend
Raster Function Infos
Supported Operations:
Export Image
Identify
Measure
Compute Histograms
Compute Statistics Histograms
Get Samples
Compute Class Statistics
Query Boundary
Compute Pixel Location
Compute Angles
Validate
Project