{
 "currentVersion": 11.2,
 "serviceDescription": "QAC_PUBLIC/QAC_COUNTYWIDE1937",
 "name": "QAC_PUBLIC/QAC_COUNTYWIDE1937",
 "description": "",
 "extent": {
  "xmin": 1482993.7520674318,
  "ymin": 421690.7705937748,
  "xmax": 1672026.8896616464,
  "ymax": 598310.6565874964,
  "spatialReference": {
   "wkid": 103069,
   "latestWkid": 6488
  }
 },
 "initialExtent": {
  "xmin": 1482993.7520674318,
  "ymin": 421690.7705937748,
  "xmax": 1672026.8896616464,
  "ymax": 598310.6565874964,
  "spatialReference": {
   "wkid": 103069,
   "latestWkid": 6488
  }
 },
 "fullExtent": {
  "xmin": 1482993.7520674318,
  "ymin": 421690.7705937748,
  "xmax": 1672026.8896616464,
  "ymax": 598310.6565874964,
  "spatialReference": {
   "wkid": 103069,
   "latestWkid": 6488
  }
 },
 "sortableFields": "",
 "bandCount": 1,
 "pixelType": "U8",
 "minValues": [
  0
 ],
 "maxValues": [
  255
 ],
 "meanValues": [
  66.76233686923939
 ],
 "stdvValues": [
  72.36796273208981
 ],
 "hasMultidimensions": false,
 "pixelSizeX": 1.3413930841254773,
 "pixelSizeY": 1.3413930841255086,
 "meanPixelSize": 0.4088574297563098,
 "datasetFormat": "SDR",
 "uncompressedSize": 18555190487,
 "blockWidth": 128,
 "blockHeight": 128,
 "compressionType": "LZ77",
 "bandNames": [
  "Band_1"
 ],
 "allowCopy": true,
 "allowAnalysis": true,
 "itemAccess": false,
 "inspectionCapabilities": "",
 "minPixelSize": 0,
 "maxPixelSize": 0,
 "copyrightText": "",
 "serviceDataType": "esriImageServiceDataTypeGeneric",
 "serviceSourceType": "esriImageServiceSourceTypeDataset",
 "objectIdField": "",
 "fields": [],
 "capabilities": "Image,Metadata,Mensuration",
 "defaultMosaicMethod": "Center",
 "allowedMosaicMethods": "",
 "sortField": "",
 "sortValue": null,
 "sortAscending": true,
 "mosaicOperator": "First",
 "defaultCompressionQuality": 75,
 "defaultResamplingMethod": "Bilinear",
 "maxImageHeight": 4100,
 "maxImageWidth": 15000,
 "allowRasterFunction": true,
 "rasterFunctionInfos": [
  {
   "name": "None",
   "description": "",
   "help": ""
  }
 ],
 "rasterTypeInfos": [
  {
   "name": "Raster Dataset",
   "description": "Supports all ArcGIS Raster Datasets",
   "help": ""
  }
 ],
 "mensurationCapabilities": "Basic",
 "hasHistograms": true,
 "hasColormap": false,
 "hasRasterAttributeTable": false,
 "minScale": 0,
 "maxScale": 0,
 "exportTilesAllowed": false,
 "supportsStatistics": false,
 "supportsAdvancedQueries": false,
 "editFieldsInfo": null,
 "ownershipBasedAccessControlForRasters": null,
 "allowComputeTiePoints": false,
 "useStandardizedQueries": false,
 "advancedQueryCapabilities": {
  "useStandardizedQueries": false,
  "supportsStatistics": false,
  "supportsOrderBy": false,
  "supportsDistinct": false,
  "supportsPagination": false
 },
 "spatialReference": {
  "wkid": 103069,
  "latestWkid": 6488
 }
}
