View In:
ArcGIS JavaScript
ArcGIS Online Map Viewer
ArcGIS Earth
Service Description: QAC_PUBLIC/QAC_COUNTYWIDE2013
Name: QAC_PUBLIC/QAC_COUNTYWIDE2013
Description:
Single Fused Map Cache: false
Extent:
XMin: 1473999.9367985427
YMin: 423000.245666191
XMax: 1671999.9367985427
YMax: 587000.245666191
Spatial Reference: 102685
(2248)
Initial Extent:
XMin: 1473999.9367985427
YMin: 423000.245666191
XMax: 1671999.9367985427
YMax: 587000.245666191
Spatial Reference: 102685
(2248)
Full Extent:
XMin: 1473999.9367985427
YMin: 423000.245666191
XMax: 1671999.9367985427
YMax: 587000.245666191
Spatial Reference: 102685
(2248)
Pixel Size X: 0.5
Pixel Size Y: 0.5
Band Count: 4
Pixel Type: U8
RasterFunction Infos: {"rasterFunctionInfos": [{
"name": "None",
"description": "",
"help": ""
}]}
Mensuration Capabilities: Basic
Inspection Capabilities:
Has Histograms: true
Has Colormap: false
Has Multi Dimensions : false
Rendering Rule:
Min Scale: 0
Max Scale: 0
Copyright Text:
Service Data Type: esriImageServiceDataTypeGeneric
Min Values: 0, 0, 0, 0
Max Values: 255, 255, 255, 255
Mean Values: 130.3252603463051, 126.49689956360771, 121.6877290915474, 130.1767499818179
Standard Deviation Values: 46.39946382837135, 45.85991689349167, 45.23399369611773, 47.347364725764386
Object ID Field:
Fields:
None
Default Mosaic Method: Center
Allowed Mosaic Methods:
SortField:
SortValue: null
Mosaic Operator: First
Default Compression Quality: 75
Default Resampling Method: Bilinear
Max Record Count: null
Max Image Height: 4100
Max Image Width: 15000
Max Download Image Count: null
Max Mosaic Image Count: null
Allow Raster Function: true
Allow Copy: true
Allow Analysis: true
Allow Compute TiePoints: false
Supports Statistics: false
Supports Advanced Queries: false
Use StandardizedQueries: true
Raster Type Infos:
Name: Raster Dataset
Description: Supports all ArcGIS Raster Datasets
Help:
Has Raster Attribute Table: false
Edit Fields Info: null
Ownership Based AccessControl For Rasters: null
Child Resources:
Info
Histograms
Statistics
Key Properties
Legend
Raster Function Infos
Supported Operations:
Export Image
Identify
Measure
Compute Histograms
Compute Statistics Histograms
Get Samples
Compute Class Statistics
Query Boundary
Compute Pixel Location
Compute Angles
Validate
Project