View In:
ArcGIS JavaScript
ArcGIS Online Map Viewer
ArcGIS Earth
Service Description: QAC_PUBLIC/QAC_COUNTYWIDE1991
Name: QAC_PUBLIC/QAC_COUNTYWIDE1991
Description:
Single Fused Map Cache: false
Extent:
XMin: 453972.54802973254
YMin: 127240.9567247705
XMax: 513617.73328630376
YMax: 183576.25143804718
Spatial Reference: 26985
(26985)
Initial Extent:
XMin: 453972.54802973254
YMin: 127240.9567247705
XMax: 513617.73328630376
YMax: 183576.25143804718
Spatial Reference: 26985
(26985)
Full Extent:
XMin: 453972.54802973254
YMin: 127240.9567247705
XMax: 513617.73328630376
YMax: 183576.25143804718
Spatial Reference: 26985
(26985)
Pixel Size X: 1.2359391047591375
Pixel Size Y: 1.229437709250506
Band Count: 1
Pixel Type: U8
RasterFunction Infos: {"rasterFunctionInfos": [{
"name": "None",
"description": "",
"help": ""
}]}
Mensuration Capabilities: Basic
Inspection Capabilities:
Has Histograms: true
Has Colormap: true
Has Multi Dimensions : false
Rendering Rule:
Min Scale: 0
Max Scale: 0
Resampling: false
Copyright Text:
Service Data Type: esriImageServiceDataTypeThematic
Min Values: 0
Max Values: 244
Mean Values: 135.09211093679045
Standard Deviation Values: 61.41187030625
Object ID Field:
Fields:
None
Default Mosaic Method: Center
Allowed Mosaic Methods:
SortField:
SortValue: null
Mosaic Operator: First
Default Compression Quality: 75
Default Resampling Method: Bilinear
Max Record Count: null
Max Image Height: 4100
Max Image Width: 15000
Max Download Image Count: null
Max Mosaic Image Count: null
Allow Raster Function: true
Allow Copy: true
Allow Analysis: true
Allow Compute TiePoints: false
Supports Statistics: false
Supports Advanced Queries: false
Use StandardizedQueries: true
Raster Type Infos:
Name: Raster Dataset
Description: Supports all ArcGIS Raster Datasets
Help:
Has Raster Attribute Table: false
Edit Fields Info: null
Ownership Based AccessControl For Rasters: null
Child Resources:
Info
Histograms
Statistics
Key Properties
Color Map
Legend
Raster Function Infos
Supported Operations:
Export Image
Identify
Measure
Compute Histograms
Compute Statistics Histograms
Get Samples
Compute Class Statistics
Query Boundary
Compute Pixel Location
Compute Angles
Validate
Project