View In:
ArcGIS JavaScript
ArcGIS Online Map Viewer
ArcGIS Earth
Service Description: QAC_PUBLIC/QAC_COUNTYWIDE1978
Name: QAC_PUBLIC/QAC_COUNTYWIDE1978
Description:
Single Fused Map Cache: false
Extent:
XMin: 1477448.7287444472
YMin: 415437.5546387007
XMax: 1676109.1918717353
YMax: 595167.6782212257
Spatial Reference: 102685
(2248)
Initial Extent:
XMin: 1477448.7287444472
YMin: 415437.5546387007
XMax: 1676109.1918717353
YMax: 595167.6782212257
Spatial Reference: 102685
(2248)
Full Extent:
XMin: 1477448.7287444472
YMin: 415437.5546387007
XMax: 1676109.1918717353
YMax: 595167.6782212257
Spatial Reference: 102685
(2248)
Pixel Size X: 1.039443199251201
Pixel Size Y: 1.0394431992512003
Band Count: 1
Pixel Type: U8
RasterFunction Infos: {"rasterFunctionInfos": [{
"name": "None",
"description": "",
"help": ""
}]}
Mensuration Capabilities: Basic
Inspection Capabilities:
Has Histograms: false
Has Colormap: false
Has Multi Dimensions : false
Rendering Rule:
Min Scale: 0
Max Scale: 0
Copyright Text:
Service Data Type: esriImageServiceDataTypeGeneric
Min Values: N/A
Max Values: N/A
Mean Values: N/A
Standard Deviation Values: N/A
Object ID Field:
Fields:
None
Default Mosaic Method: Center
Allowed Mosaic Methods:
SortField:
SortValue: null
Mosaic Operator: First
Default Compression Quality: 75
Default Resampling Method: Bilinear
Max Record Count: null
Max Image Height: 4100
Max Image Width: 15000
Max Download Image Count: null
Max Mosaic Image Count: null
Allow Raster Function: true
Allow Copy: true
Allow Analysis: true
Allow Compute TiePoints: false
Supports Statistics: false
Supports Advanced Queries: false
Use StandardizedQueries: true
Raster Type Infos:
Name: Raster Dataset
Description: Supports all ArcGIS Raster Datasets
Help:
Has Raster Attribute Table: false
Edit Fields Info: null
Ownership Based AccessControl For Rasters: null
Child Resources:
Info
Statistics
Key Properties
Legend
Raster Function Infos
Supported Operations:
Export Image
Identify
Measure
Compute Histograms
Compute Statistics Histograms
Get Samples
Compute Class Statistics
Query Boundary
Compute Pixel Location
Compute Angles
Validate
Project