View In:
ArcGIS JavaScript
ArcGIS Online Map Viewer
ArcGIS Earth
Service Description: Imagery form 1963
Name: QAC_PUBLIC/QAC_COUNTYWIDE1963
Description: Imagery form 1963
Single Fused Map Cache: false
Extent:
XMin: 1479070.2110883696
YMin: 414311.50841972977
XMax: 1674520.4538617097
YMax: 587798.4022113702
Spatial Reference: 102685
(2248)
Initial Extent:
XMin: 1479070.2110883696
YMin: 414311.50841972977
XMax: 1674520.4538617097
YMax: 587798.4022113702
Spatial Reference: 102685
(2248)
Full Extent:
XMin: 1479070.2110883696
YMin: 414311.50841972977
XMax: 1674520.4538617097
YMax: 587798.4022113702
Spatial Reference: 102685
(2248)
Pixel Size X: 0.8267776767061763
Pixel Size Y: 0.8267776767061759
Band Count: 1
Pixel Type: U8
RasterFunction Infos: {"rasterFunctionInfos": [{
"name": "None",
"description": "",
"help": ""
}]}
Mensuration Capabilities: Basic
Inspection Capabilities:
Has Histograms: true
Has Colormap: false
Has Multi Dimensions : false
Rendering Rule:
Min Scale: 0
Max Scale: 0
Resampling: false
Copyright Text:
Service Data Type: esriImageServiceDataTypeGeneric
Min Values: 0
Max Values: 255
Mean Values: 144.33889616866912
Standard Deviation Values: 32.793494188897064
Object ID Field:
Fields:
None
Default Mosaic Method: Center
Allowed Mosaic Methods:
SortField:
SortValue: null
Mosaic Operator: First
Default Compression Quality: 75
Default Resampling Method: Bilinear
Max Record Count: null
Max Image Height: 4100
Max Image Width: 15000
Max Download Image Count: null
Max Mosaic Image Count: null
Allow Raster Function: true
Allow Copy: true
Allow Analysis: true
Allow Compute TiePoints: false
Supports Statistics: false
Supports Advanced Queries: false
Use StandardizedQueries: true
Raster Type Infos:
Name: Raster Dataset
Description: Supports all ArcGIS Raster Datasets
Help:
Has Raster Attribute Table: false
Edit Fields Info: null
Ownership Based AccessControl For Rasters: null
Child Resources:
Info
Histograms
Statistics
Key Properties
Legend
Raster Function Infos
Supported Operations:
Export Image
Identify
Measure
Compute Histograms
Compute Statistics Histograms
Get Samples
Compute Class Statistics
Query Boundary
Compute Pixel Location
Compute Angles
Validate
Project