{
 "currentVersion": 11.2,
 "serviceDescription": "QAC_PUBLIC/QAC_COUNTYWIDE2022",
 "name": "QAC_PUBLIC/QAC_COUNTYWIDE2022",
 "description": "",
 "extent": {
  "xmin": 1467999.9367996901,
  "ymin": 411000.2456627935,
  "xmax": 1671999.9367996901,
  "ymax": 587000.2456627935,
  "spatialReference": {
   "wkid": 103069,
   "latestWkid": 6488
  }
 },
 "initialExtent": {
  "xmin": 1467999.9367996901,
  "ymin": 411000.2456627935,
  "xmax": 1671999.9367996901,
  "ymax": 587000.2456627935,
  "spatialReference": {
   "wkid": 103069,
   "latestWkid": 6488
  }
 },
 "fullExtent": {
  "xmin": 1467999.9367996901,
  "ymin": 411000.2456627935,
  "xmax": 1671999.9367996901,
  "ymax": 587000.2456627935,
  "spatialReference": {
   "wkid": 103069,
   "latestWkid": 6488
  }
 },
 "sortableFields": "",
 "bandCount": 4,
 "pixelType": "U8",
 "minValues": [
  0,
  0,
  0,
  0
 ],
 "maxValues": [
  255,
  255,
  255,
  255
 ],
 "meanValues": [
  105.14507939113476,
  106.47723147757831,
  105.91656320762411,
  112.63127401564347
 ],
 "stdvValues": [
  39.863105438067684,
  34.66413298455233,
  30.957556154280077,
  45.73667482828863
 ],
 "hasMultidimensions": false,
 "pixelSizeX": 0.5,
 "pixelSizeY": 0.5,
 "meanPixelSize": 0.15240030480060962,
 "datasetFormat": "SDR",
 "uncompressedSize": 574464000000,
 "blockWidth": 128,
 "blockHeight": 128,
 "compressionType": "LZ77",
 "bandNames": [
  "Band_1",
  "Band_2",
  "Band_3",
  "Band_4"
 ],
 "allowCopy": true,
 "allowAnalysis": true,
 "itemAccess": false,
 "inspectionCapabilities": "",
 "minPixelSize": 0,
 "maxPixelSize": 0,
 "copyrightText": "",
 "serviceDataType": "esriImageServiceDataTypeGeneric",
 "serviceSourceType": "esriImageServiceSourceTypeDataset",
 "objectIdField": "",
 "fields": [],
 "capabilities": "Mensuration,Image,Metadata",
 "defaultMosaicMethod": "Center",
 "allowedMosaicMethods": "",
 "sortField": "",
 "sortValue": null,
 "sortAscending": true,
 "mosaicOperator": "First",
 "defaultCompressionQuality": 75,
 "defaultResamplingMethod": "Bilinear",
 "maxImageHeight": 4100,
 "maxImageWidth": 15000,
 "allowRasterFunction": true,
 "rasterFunctionInfos": [
  {
   "name": "None",
   "description": "",
   "help": ""
  }
 ],
 "rasterTypeInfos": [
  {
   "name": "Raster Dataset",
   "description": "Supports all ArcGIS Raster Datasets",
   "help": ""
  }
 ],
 "mensurationCapabilities": "Basic",
 "hasHistograms": true,
 "hasColormap": false,
 "hasRasterAttributeTable": false,
 "minScale": 0,
 "maxScale": 0,
 "exportTilesAllowed": false,
 "supportsStatistics": false,
 "supportsAdvancedQueries": false,
 "editFieldsInfo": null,
 "ownershipBasedAccessControlForRasters": null,
 "allowComputeTiePoints": false,
 "useStandardizedQueries": false,
 "advancedQueryCapabilities": {
  "useStandardizedQueries": false,
  "supportsStatistics": false,
  "supportsOrderBy": false,
  "supportsDistinct": false,
  "supportsPagination": false
 },
 "spatialReference": {
  "wkid": 103069,
  "latestWkid": 6488
 },
 "resampling": false
}
