{
 "currentVersion": 11.2,
 "serviceDescription": "QAC_PUBLIC/QAC_COUNTYWIDE1989",
 "name": "QAC_PUBLIC/QAC_COUNTYWIDE1989",
 "description": "",
 "extent": {
  "xmin": 2.97426700592041,
  "ymin": -136.27749398967717,
  "xmax": 1669506.9747858467,
  "ymax": 591383.7226911187,
  "spatialReference": {
   "wkid": 103069,
   "latestWkid": 6488
  }
 },
 "initialExtent": {
  "xmin": 2.97426700592041,
  "ymin": -136.27749398967717,
  "xmax": 1669506.9747858467,
  "ymax": 591383.7226911187,
  "spatialReference": {
   "wkid": 103069,
   "latestWkid": 6488
  }
 },
 "fullExtent": {
  "xmin": 2.97426700592041,
  "ymin": -136.27749398967717,
  "xmax": 1669506.9747858467,
  "ymax": 591383.7226911187,
  "spatialReference": {
   "wkid": 103069,
   "latestWkid": 6488
  }
 },
 "sortableFields": "",
 "bandCount": 1,
 "pixelType": "U8",
 "minValues": [],
 "maxValues": [],
 "meanValues": [],
 "stdvValues": [],
 "hasMultidimensions": false,
 "pixelSizeX": 8.000000002486203,
 "pixelSizeY": 8.000000002503494,
 "meanPixelSize": 2.438404877570185,
 "datasetFormat": "SDR",
 "uncompressedSize": 15430390720,
 "blockWidth": 128,
 "blockHeight": 128,
 "compressionType": "LZ77",
 "bandNames": [
  "Band_1"
 ],
 "allowCopy": true,
 "allowAnalysis": true,
 "itemAccess": false,
 "inspectionCapabilities": "",
 "minPixelSize": 0,
 "maxPixelSize": 0,
 "copyrightText": "",
 "serviceDataType": "esriImageServiceDataTypeGeneric",
 "serviceSourceType": "esriImageServiceSourceTypeDataset",
 "objectIdField": "",
 "fields": [],
 "capabilities": "Image,Metadata,Mensuration",
 "defaultMosaicMethod": "Center",
 "allowedMosaicMethods": "",
 "sortField": "",
 "sortValue": null,
 "sortAscending": true,
 "mosaicOperator": "First",
 "defaultCompressionQuality": 75,
 "defaultResamplingMethod": "Bilinear",
 "maxImageHeight": 4100,
 "maxImageWidth": 15000,
 "allowRasterFunction": true,
 "rasterFunctionInfos": [
  {
   "name": "None",
   "description": "",
   "help": ""
  }
 ],
 "rasterTypeInfos": [
  {
   "name": "Raster Dataset",
   "description": "Supports all ArcGIS Raster Datasets",
   "help": ""
  }
 ],
 "mensurationCapabilities": "Basic",
 "hasHistograms": false,
 "hasColormap": false,
 "hasRasterAttributeTable": false,
 "minScale": 0,
 "maxScale": 0,
 "exportTilesAllowed": false,
 "supportsStatistics": false,
 "supportsAdvancedQueries": false,
 "editFieldsInfo": null,
 "ownershipBasedAccessControlForRasters": null,
 "allowComputeTiePoints": false,
 "useStandardizedQueries": false,
 "advancedQueryCapabilities": {
  "useStandardizedQueries": false,
  "supportsStatistics": false,
  "supportsOrderBy": false,
  "supportsDistinct": false,
  "supportsPagination": false
 },
 "spatialReference": {
  "wkid": 103069,
  "latestWkid": 6488
 }
}
